Workbook
Name DirectCostsEnd: Summary!$A$25
Name DirectCostsStart: Summary!$A$19
Name IndirectCostsEnd: Summary!$A$35
Name IndirectCostsStart: Summary!$A$30
Name MATCHTOTCM: 'General Expenditures'!$F$81
Name MATCHTOTHDM: #REF!
Name num_AddlResourcesCong: Summary!$L$45
Name num_AddlResourcesHDM: Summary!#REF!
Name num_CongregateMealsFunding: Summary!$D$8
Name num_CongregateMealsMatch: Summary!$F$8
Name num_CongregateMealsParticipants: Summary!$L$8
Name num_CongregateMealsUnits: Summary!$H$8
Name num_CongregateMealsUnitsRate: Summary!$J$8
Name num_FederalGrant: Summary!$D$48
Name num_GrantTotalFunding: Summary!#REF!
Name num_GrantTotalMatch: Summary!#REF!
Name num_GrantTotalUnits: Summary!#REF!
Name num_HomeMealsFunding: Summary!#REF!
Name num_HomeMealsMatch: Summary!#REF!
Name num_HomeMealsParticipants: Summary!#REF!
Name num_HomeMealsUnits: Summary!#REF!
Name num_HomeMealsUnitsRate: Summary!#REF!
Name num_LessCM: Summary!$D$44
Name num_LessHDM: Summary!#REF!
Name num_LessMatch: Summary!$D$47
Name num_LessNSIP: Summary!$D$45
Name num_NSIPRate: Summary!$D$12
Name num_SubTotal: Summary!$D$46
Name num_SuppliesFunding: Summary!#REF!
Name num_SuppliesMatch: Summary!#REF!
Name num_TotalContractBudget: Summary!$D$43
Name num_TotalProgramCost: Summary!$L$43
Name num_TotalProgramUnitCost: Summary!$L$44

Sheet Summary
A1: I. GENERAL INFORMATION
A3: Contractor: | H3: Fiscal Year:
H4: Date Prepared:
F5: Required
D6: Grant Funding | F6: Match | H6: Units | J6: Unit Rate | L6: Participants
A8: =D16 -> 0 | F8: =ROUND(D8/0.85*0.15,0) -> 0 | J8: =IF(D8>0,D8/H8,"")
A10: Additional Funding | D10: ='Additional Funding'!D34+'Additional Funding'!H34+'Additional Funding'!L34 -> 0 | F10: =ROUND(D10/0.85*0.15,0) -> 0
A12: NSIP Rate
A14: II. BUDGET EXPENDITURES
F15: Total | J15: Total
D16: ='General Expenditures'!C3 -> 0 | E16: Unit | F16: Contract | H16: Additional | J16: Program
D17: Meals | E17: Ratio | F17: Expenditures | H17: Resources | J17: Expenditures
A18: Direct Costs
A19: 1. Raw Food | D19: ='Expenditure Schedule'!H12 -> 0 | E19: =IF(D19>0,D19/'Expenditure Schedule'!$F$55,"") | F19: =D19 -> 0 | I19: =F19+H19 -> 0
A20: 2. Purchased Meals | D20: ='Expenditure Schedule'!H35 -> 0 | E20: =IF(D20>0,D20/'Expenditure Schedule'!$F$55,"") | F20: =D20 -> 0 | I20: =F20+H20 -> 0
A21: 3. Nutrition Supplements | D21: ='Expenditure Schedule'!H51 -> 0 | E21: =IF(D21>0,D21/'Expenditure Schedule'!$F$55,"") | F21: =D21 -> 0 | I21: =F21+H21 -> 0
A22: 4. Direct Labor Salary | D22: ='General Expenditures'!F18 -> 0 | E22: =IF(D22>0,D22/'Expenditure Schedule'!$F$55,"") | F22: =D22 -> 0 | I22: =F22+H22 -> 0
A23: 5. Direct Labor Fringe | D23: ='General Expenditures'!F33 -> 0 | E23: =IF(D23>0,D23/'Expenditure Schedule'!$F$55,"") | F23: =D23 -> 0 | I23: =F23+H23 -> 0
A24: 6. Direct Kitchen Expenses | D24: ='General Expenditures'!F46 -> 0 | E24: =IF(D24>0,D24/'Expenditure Schedule'!$F$55,"") | F24: =D24 -> 0 | I24: =F24+H24 -> 0
A25: 7. Transportation | D25: ='General Expenditures'!F52 -> 0 | E25: =IF(D25>0,D25/'Expenditure Schedule'!$F$55,"") | F25: =D25 -> 0 | I25: =F25+H25 -> 0
A27: Total Direct Costs | D27: =ROUND(SUM(D19:D25),0) -> 0 | E27: =ROUND(SUM(E19:E25),0) -> 0 | F27: =ROUND(D27,0) -> 0 | H27: =ROUND(SUM(H19:H25),0) -> 0 | I27: =ROUND(F27+H27,0) -> 0
A29: Indirect Costs
A30: 8. Other | D30: ='General Expenditures'!F60 -> 0 | E30: =IF(D30>0,D30/'Expenditure Schedule'!$H$55,"") | F30: =D30 -> 0 | I30: =F30+H30 -> 0
A31: 9. Indirect Labor Salary | D31: ='General Expenditures'!M18 -> 0 | E31: =IF(D31>0,D31/'Expenditure Schedule'!$H$55,"") | F31: =D31 -> 0 | I31: =F31+H31 -> 0
A32: 10. Indirect Labor Fringe | D32: ='General Expenditures'!M34 -> 0 | E32: =IF(D32>0,D32/'Expenditure Schedule'!$H$55,"") | F32: =D32 -> 0 | I32: =F32+H32 -> 0
A33: 11. Facilities (Rent / Utilities) | D33: ='General Expenditures'!M41 -> 0 | E33: =IF(D33>0,D33/'Expenditure Schedule'!$H$55,"") | F33: =D33 -> 0 | I33: =F33+H33 -> 0
A34: 12. Equipment | D34: ='General Expenditures'!M48 -> 0 | E34: =IF(D34>0,D34/'Expenditure Schedule'!$H$55,"") | F34: =D34 -> 0 | I34: =F34+H34 -> 0
A35: 13. Consultants | D35: ='General Expenditures'!M56 -> 0 | E35: =IF(D35>0,D35/'Expenditure Schedule'!$H$55,"") | F35: =D35 -> 0 | I35: =F35+H35 -> 0
A37: Total Indirect Costs | D37: =ROUND(SUM(D30:D35),0) -> 0 | E37: =ROUND(SUM(E30:E35),0) -> 0 | F37: =ROUND(D37,0) -> 0 | H37: =ROUND(SUM(H30:H35),0) -> 0 | I37: =ROUND(F37+H37,0) -> 0
A39: Total Program Budget | D39: =ROUND(D27+D37,0) -> 0 | E39: =ROUND(E27+E37,0) -> 0 | F39: =ROUND(D39,0) -> 0 | H39: =ROUND(H27+H37,0) -> 0 | I39: =ROUND(F39+H39,0) -> 0
A41: III. BUDGET SUMMARY
A43: Total Contract Budget | D43: =F39 -> 0 | H43: Total Program Cost | L43: =I39 -> 0
A44: Less: Program Inc./Vol.Contribution | H44: Total Program Unit Cost | L44: =IF(L43>0,L43/num_CongregateMealsUnits,"")
A45: Less: NSIP Reimbursement | D45: =ROUND(num_CongregateMealsUnits*num_NSIPRate,0) -> 0
A46: Sub Total | D46: =ROUND(D43-D44-D45,0) -> 0
A47: Less: Required Match | D47: =num_CongregateMealsMatch -> 0 | G47: =IF(D48=num_CongregateMealsFunding,"",IF(D47=num_CongregateMealsMatch,"","Budget Does Not Balance"))
A48: Federal/State Grant | D48: =ROUND(D46-D47,0) -> 0

Sheet Expenditure Schedule
A1: Contractor | B1: =IF(Summary!B3="","",Summary!B3)
A3: Service: | B3: =Summary!D16 -> 0
A5: 1. RAW FOOD
F6: MEALS
A7: Production Facility | D7: Meal Type | F7: Units | G7: Cost | H7: Total
H8: =F8*G8 -> 0
H9: =F9*G9 -> 0
H10: =F10*G10 -> 0
H11: =F11*G11 -> 0
A12: TOTAL RAW FOOD | F12: =ROUND(SUM(F8:F11),0) -> 0 | G12: =ROUND(SUM(G8:G11),0) -> 0 | H12: =ROUND(SUM(H8:H11),0) -> 0
A14: 2. PURCHASED MEALS
F15: MEALS
A16: Provider | D16: Meal Type | F16: Units | G16: Cost | H16: Total
H17: =F17*G17 -> 0
H18: =F18*G18 -> 0
H19: =F19*G19 -> 0
H20: =F20*G20 -> 0
H21: =F21*G21 -> 0
H22: =F22*G22 -> 0
H23: =F23*G23 -> 0
H24: =F24*G24 -> 0
H25: =F25*G25 -> 0
H26: =F26*G26 -> 0
H27: =F27*G27 -> 0
H28: =F28*G28 -> 0
... H33: =F33*G33 -> 0
A34: TOTAL PURCHASED MEALS | H34: =F34*G34 -> 0
F35: =ROUND(SUM(F17:F34),0) -> 0 | G35: =ROUND(SUM(G17:G34),0) -> 0 | H35: =ROUND(SUM(H17:H34),0) -> 0
A37: 3. NUTRITION SUPPLEMENT
F38: MEALS
A39: Enter Type and # of Cases | D39: Case Cost | F39: Units | G39: Cost | H39: Total
H40: =F40*G40 -> 0
H41: =F41*G41 -> 0
H42: =F42*G42 -> 0
H43: =F43*G43 -> 0
H44: =F44*G44 -> 0
H45: =F45*G45 -> 0
H46: =F46*G46 -> 0
H47: =F47*G47 -> 0
H48: =F48*G48 -> 0
...

Sheet General Expenditures
A1: Contractor: | C1: =Summary!B3 -> 0
A3: Service:
A5: 4. DIRECT LABOR SALARY | H5: 9. INDIRECT LABOR SALARY
A7: Position/Title: | C7: Work Week Hours: | E7: FTE | F7: Total | H7: Position/Title: | K7: Work Week Hours: | L7: FTE | M7: Total
A18: TOTAL DIRECT LABOR SALARIES | F18: =ROUND(SUM(F8:F17),0) -> 0 | H18: TOTAL INDIRECT LABOR SALARIES | M18: =ROUND(SUM(M8:M17),0) -> 0
A21: 5. DIRECT LABOR FRINGE | H21: 10. INDIRECT LABOR FRINGE
A23: Position/Title | E23: FTE | F23: Total | H23: Position/Title: | L23: FTE | M23: Total
A33: TOTAL DIRECT LABOR FRINGE | F33: =ROUND(SUM(F24:F32),0) -> 0
H34: TOTAL INDIRECT LABOR FRINGE | M34: =ROUND(SUM(M24:M33),0) -> 0
A36: 6. DIRECT KITCHEN EXPENSES
H37: 11. FACILITIES (RENT/UTILITIES)
H38: Rent Rate: | J38: Sq. Ft. | M38: =I38*K38 -> 0
H39: Utilities: | J39: Months: | M39: =I39*K39 -> 0
H40: Utilities: | J40: Months: | M40: =I40*K40 -> 0
H41: TOTAL FACILITIES | M41: =ROUND(SUM(M38:M40),0) -> 0
H43: 12. EQUIPMENT
A46: TOTAL DIRECT KITCHEN EXPENSES | F46: =ROUND(SUM(F37:F45),0) -> 0
H48: TOTAL EQUIPMENT | M48: =ROUND(SUM(M44:M47),0) -> 0
A49: 7. TRANSPORTATION
A50: Miles: | C50: Rate Per Mile: | F50: =B50*D50 -> 0
A51: Other: | H51: 13. CONSULTANTS
A52: TOTAL TRANSPORTATION | F52: =ROUND(SUM(F50:F51),0) -> 0
A55: 8. OTHER
H56: TOTAL CONSULTANTS | M56: =ROUND(SUM(M52:M55),0) -> 0
A60: TOTAL OTHER | F60: =ROUND(SUM(F56:F59),0) -> 0
A62: DESCRIPTION OF MATCHING FUNDS
A63: LOCAL CASH MATCH (Specify Source of Funds)
E70: LOCAL CASH MATCH TOTAL | F70: =ROUND(SUM(F64:F69),0) -> 0
A72: LOCAL INKIND MATCH (Specify Source of Funds)
E79: LOCAL CASH MATCH TOTAL | F79: =ROUND(SUM(F73:F78),0) -> 0
E81: MATCH TOTAL | F81: =ROUND(SUM(F79+F70),0) -> 0
A85: Congregate
A86: Home Delivered

Sheet Additional Funding
A1: FY25 Additional FUNDING
A2: Service: | B2: =Summary!D16 -> 0
B4: Equipment ($5K or >) | F4: Supplies (< $5K) | J4: Admin | N4: Food Costs
B5: Item Description | C5: Quantity | D5: Total | F5: Item Description | G5: Quantity | H5: Total | J5: Item Description | K5: Quantity | L5: Total | N5: Item Description | O5: Quantity | P5: Total
B34: TOTAL: | D34: =SUM(D6:D33) -> 0 | F34: TOTAL: | H34: =SUM(H6:H33) -> 0 | J34: TOTAL: | L34: =SUM(L6:L33) -> 0 | N34: TOTAL: | P34: =SUM(P6:P33) -> 0

Sheet Unit Rate Cost
B2: Unit Cost by Program
B3: Total Program Cost | E3: =Summary!I39 -> 0
B4: Total Program Unit Cost | E4: =E3/Summary!H8 -> #DIV/0!
G5: W/Addl Resources
B6: Program Cost | E6: =Summary!D39 -> 0 | G6: =Summary!D39 -> 0
B7: Addl Resources | E7: =Summary!L45 -> 0 | G7: =Summary!L45 -> 0
B8: Total Congregate Unit Cost | E8: =E6/Summary!H8 -> #DIV/0! | G8: =(G6-G7)/Summary!H8 -> #DIV/0!
B10: Unit Cost by Category
C11: =Summary!D16 -> 0
B12: Raw Food | C12: ='Expenditure Schedule'!H55/Summary!H8 -> #DIV/0!
B13: DIRECT LABOR SALARY | C13: ='General Expenditures'!F18/Summary!H8 -> #DIV/0!
B14: DIRECT LABOR FRINGE | C14: ='General Expenditures'!F33/Summary!H8 -> #DIV/0!
B15: EQUIPMENT | C15: ='General Expenditures'!M48/Summary!H8 -> #DIV/0!
B16: DIRECT KITCHEN EXPENSES | C16: ='General Expenditures'!F46/Summary!H8 -> #DIV/0!
B17: FACILITIES (RENT/UTILITIES) | C17: ='General Expenditures'!M41/Summary!H8 -> #DIV/0!
B18: OTHER | C18: ='General Expenditures'!F60/Summary!H8 -> #DIV/0!
